Workbook

Sheet Özet Panel
A1: ORTAKÖY MYO – KURUMSAL PERFORMANS PANELİ | 2025–2026
A2: Bu panel dört stratejik başlık altındaki faaliyetlerin sayısal özetini sunmaktadır.
A4: EĞİTİM VE ÖĞRETİM
A5: Düzenlenen Etkinlik Sayısı | G5: =COUNTA('1. Eğitim-Öğretim'!A5:A28) -> 24
A6: Toplam Katılan Öğrenci | G6: ='1. Eğitim-Öğretim'!F29 -> 1051
A7: Öğrenci Memnuniyet Ort. (%) | G7: =ROUND('1. Eğitim-Öğretim'!G29,1) -> 96.5
A8: Tamamlanan Ders Sayısı | G8: =COUNTA('1. Eğitim-Öğretim'!B33:B34) -> 2
A9: Genel Geçme Oranı (%) | G9: =ROUND(AVERAGE('1. Eğitim-Öğretim'!I33:I34),1) -> 74.4
A11: ARAŞTIRMA VE GELİŞTİRME
A12: Toplam Yayın Sayısı | G12: =COUNTA('2. Araştırma-Geliştirme'!A5:A13) -> 9
A13: Aktif Proje Sayısı | G13: =COUNTA('2. Araştırma-Geliştirme'!A17:A17) -> 1
A14: TÜBİTAK Projesi | G14: =COUNTIF('2. Araştırma-Geliştirme'!D17:D17,"TÜBİTAK") -> 0
A15: Toplam Proje Bütçesi (₺) | G15: =SUM('2. Araştırma-Geliştirme'!G17:G17) -> 1592
A16: Uluslararası İşbirliği | G16: =COUNTIF('2. Araştırma-Geliştirme'!I5:I13,"Prof*")+COUNTIF('2. Araştırma-Geliştirme'!I5:I13,"Dr.*") -> 0
A18: TOPLUMSAL KATKI
A19: Düzenlenen Etkinlik / Faaliyet | G19: =COUNTA('3. Toplumsal Katkı'!A5:A10) -> 4
A20: Toplam Katılımcı | G20: =SUM('3. Toplumsal Katkı'!G5:G10) -> 176
A21: Aktif Sanayi İşbirliği Protokolü | G21: =COUNTIF('3. Toplumsal Katkı'!I14:I19,"Aktif") -> 0
A22: Staj Öğrenci Sayısı | G22: =SUM('3. Toplumsal Katkı'!G14:G19) -> 21
A23: İstihdam Edilen Mezun | G23: =SUM('3. Toplumsal Katkı'!H14:H19) -> 1
A25: YÖNETİŞİM
A26: Kalite / Akreditasyon Faaliyeti | G26: =COUNTA('4. Yönetişim'!A5:A11) -> 7
A27: Personel Eğitim Katılımı (kişi) | G27: =COUNTA('4. Yönetişim'!A15:A18) -> 2
A28: Kişi Başı Eğitim Saati | G28: =SUM('4. Yönetişim'!E15:E18) -> 0
A29: Öğrenci Memnuniyeti (%) | G29: ='4. Yönetişim'!E22 -> 95
A30: İşveren Memnuniyeti (%) | G30: ='4. Yönetişim'!E23 -> —

Sheet 1. Eğitim-Öğretim
A1: ORTAKÖY MYO – 1. EĞITIM-ÖĞRETIM FAALİYET TABLOSU | 2025–2026
A2: Akademik Yıl: 2025–2026 | Ortaköy Meslek Yüksekokulu
A3: A. ETKİNLİK VE ÖĞRENİM DENEYİMİ
A4: Bölüm / Program | B4: Etkinlik Adı | C4: Etkinlik Türü | D4: Sorumlu Öğretim Elemanı | E4: Tarih | F4: Katılan Öğrenci | G4: Memnuniyet (%) | H4: Paydaş / İşbirliği | I4: Çıktı / Not
A5: Büro Yönetimi | B5: Oryantasyon Eğitimi | C5: Seminer | D5: Dr. Öğr. Üyesi Abdullah TURAN, Öğr. Gör. Ferht ATEŞ | E5: 45933 | F5: 35 | H5: Öğrenciler ile | I5: Oryantasyon
A6: Büro Yönetimi | B6: Bölüm Yıllık Periyodik Toplantısı | C6: Bilgilendirme | D6: Dr. Öğr. Üyesi Abdullah TURAN, Öğr. Gör. Ferht ATEŞ | E6: 45947 | F6: 35 | H6: Öğrenciler ile | I6: Bilgilendirme ve Talepler
A7: Büro Yönetimi | B7: Öğrenci Danışan Toplantısı | C7: Bilgilendirme | D7: Dr. Öğr. Üyesi Abdullah TURAN, Öğr. Gör. Ferht ATEŞ | E7: 45947 | F7: 31 | H7: Öğrenciler ile | I7: Bilgilendirme ve Talepler
A8: Büro Yönetimi ve Maliye Bölümü | B8: Ankara Gezisi | C8: Gezi | D8: Dr. Öğr. Üyesi Abdullah TURAN, Öğr. Gör. Ferht ATEŞ, Öğr. Gör. Adnan YEŞİLYURT, M. Akif DENİZ | E8: 45974 | F8: 45 | H8: Maliye Programı ile | I8: Tarih ve Kültür Gezisi
A9: Büro Yönetimi | B9: Akademik Açıış Etkinliği | C9: Kurumsal Etkinlik | D9: Öğr. Gör. Ferhat ATEŞ | E9: 45981 | F9: 38 | H9: Öğrenciler ile | I9: Hedef ve Beklenti Paylaşımı
A10: Büro Yönetimi ve Maliye Bölümü | B10: Kırşehir Gezisi (2.Sınıflarla) | C10: Gezi | D10: Dr. Öğr. Üyesi Abdullah TURAN, Öğr. Gör. Dr. Onur DOĞAN, Öğr. Gör. M. Akif DENİZ | E10: 46003 | F10: 45 | H10: Maliye Programı ile | I10: Tarih ve Kültür Gezisi
A11: Büro Yönetimi | B11: Profesyonel Dayanıklılık) | C11: Kariyer Etkiliği | D11: Dr. Öğr. Üyesi Abdullah TURAN | E11: 46021 | F11: 118 | H11: Ahi Evran Ümiversitesi (Doç Dr. Emine ŞENER) | I11: Kariyer Gelişimine Katkı
A12: Büro Yönetimi | B12: Bologna Süreçleri Eğitimi | C12: Seminer | D12: Dr. Öğr. Üyesi Abdullah TURAN, Öğr. Gör. Ferht ATEŞ, Öğr. Gör. Adnan YEŞİLYURT | E12: 46080 | F12: 39 | G12: 100 | H12: Öğrenciler ile | I12: Bilgilendirme
A13: Büro Yönetimi | B13: Değişim Programları Bilgilendirme Eğitimi | C13: Seminer | D13: Dr. Öğr. Üyesi Abdullah TURAN, Öğr. Gör. Ferht ATEŞ, Öğr. Gör. Adnan YEŞİLYURT | E13: 46080 | F13: 37 | G13: 100 | H13: Öğrenciler ile | I13: Bilgilendirme
A14: Büro Yönetimi | B14: Özel Gereksinimli Öğrencilere Yönelik Bilgilendirme Eğitimi | C14: Seminer | D14: Dr. Öğr. Üyesi Abdullah TURAN, Öğr. Gör. Ferht ATEŞ, Öğr. Gör. Adnan YEŞİLYURT | E14: 46080 | F14: 41 | G14: 93.9 | H14: Öğrenciler ile | I14: Bilgilendirme
A15: Büro Yönetimi | B15: Kiralık Hesap Kullandırma Bilgilendirme Eğitimi | C15: Seminer | D15: Dr. Öğr. Üyesi Abdullah TURAN, Öğr. Gör. Ferht ATEŞ, Öğr. Gör. Adnan YEŞİLYURT | E15: 46080 | F15: 42 | G15: 95.5 | H15: Öğrenciler ile | I15: Bilgilendirme
A16: Büro Yönetimi | B16: Yeşilay Farkındalık Eğitimi | C16: Farkındalık Eğitimi | D16: Dr. Öğr. Üyesi Abdullah TURAN, Öğr. Gör. Ferht ATEŞ | E16: 46087 | F16: 24 | G16: 93.3 | H16: Öğrenciler ile | I16: Bilgilendirme
A17: Büro Yönetimi | B17: 12 Mart İstiklal Marşının Kabulü ve M. Akif Ersoy'u Anma Programı | C17: Anma Programı | D17: Dr. Öğr. Üyesi Abdullah TURAN | E17: 46093 | F17: 95 | G17: 88.1 | H17: Öğrenciler ile | I17: Kültürel Etkinlik
A18: Büro Yönetimi | B18: Oryantasyon Danışman Toplantısı | C18: Seminer | D18: Dr. Öğr. Üyesi Abdullah TURAN, Öğr. Gör. Ferht ATEŞ, Öğr. Gör. Adnan YEŞİLYURT | E18: 46094 | F18: 28 | G18: 100 | H18: Öğrenciler ile | I18: Bilgilendirme
A19: Büro Yönetimi | B19: Yıllık Periyodik Toplantı | C19: Bilgilendirme | D19: Dr. Öğr. Üyesi Abdullah TURAN, Öğr. Gör. Ferht ATEŞ, Öğr. Gör. Adnan YEŞİLYURT | E19: 46094 | F19: 28 | G19: 99 | H19: Öğrenciler ile | I19: Bilgilendirme ve Talepler
A20: Büro Yönetimi | B20: Bilişim Suçları ve Siber Güvenlik Progrmaı | C20: Seminer | D20: Dr. Öğr. Üyesi Abdullah TURAN | E20: 46115 | F20: 108 | G20: 96.5 | H20: İl/İlçe Jandarma Komutanlığı | I20: Bilgilendirme
A21: Büro Yönetimi ve Muhasebe Bölümü | B21: Kırşehir Gezisi (1.Sınıflarla) | C21: Gezi | D21: Dr.Öğr. Uyesi Abdullah TURAN, Öğr. Gör. Dr. Onur DOĞAN, Öğr. Gör. Dr. Sait PEKİN | E21: 46141 | F21: 45 | H21: Öğrenciler ile | I21: Tarih ve Kültür Gezisi
A22: Büro Yönetimi | B22: Yunus Emre Millet Bahçesinde Piknik | C22: Eğlence | D22: Dr. Öğr. Üyesi Abdullah TURAN, Öğr. Gör. Ferht ATEŞ | E22: 46150 | F22: 30 | H22: Öğrenciler ile | I22: Eğlence
A23: Büro Yönetimi | B23: Yunus Emre OSB Üretiyor Ortaköy Büyüyor | C23: Kariyer ve Başarı Öyküsü Etkinliği | D23: Dr. Öğr. Üyesi Abdullah TURAN | E23: 46156 | F23: 85 | G23: 96.7 | H23: Yunus Emre OSB Müdürü ve Ömer Chef Profterol Ltd. Şti Sahibi | I23: Kariyer Gelişimine Katkı
A24: Büro Yönetimi | B24: İş Başvuru Süreçleri Uygulamalı Eğitimi | C24: Kişisel Gelişim Etkinliği | D24: Dr. Öğr. Üyesi Abdullah TURAN | E24: 46160 | F24: 18 | G24: 99 | H24: Öğrenciler ile | I24: Kariyer Gelişimine Katkı
A25: Tüm Bölümler | B25: İŞKUR İş Klübü Eğitim Sertifika Töreni | C25: Kişisel Gelişim Etkinliği | D25: Dr. Öğr. Üyesi Abdullah TURAN, Öğr. Gör. Ferht ATEŞ, Öğr. Gör. Adnan YEŞİLYURT | E25: 46175 | F25: 17 | H25: İŞKUR ve Öğrenciler | I25: Kariyer Gelişimine Katkı
A26: Büro Yönetimi | B26: Bölüm Kitap Okuma Yarışması | C26: Kişisel Gelişim Etkinliği | D26: Dr. Öğr. Üyesi Abdullah TURAN | E26: 46175 | F26: 35 | H26: Öğrenciler ile | I26: Kariyer Gelişimine Katkı
A27: Tüm Bölümler | B27: Ortak Eğitim Sunuları | C27: Kariyer | D27: Dr. Öğr. Üyesi Abdullah TURAN, Öğr. Gör. Ferht ATEŞ, Öğr. Gör. Adnan YEŞİLYURT | E27: 46177 | F27: 2 | H27: Öğrenciler ile | I27: Kariyer Gelişimine Katkı
A28: Tüm Bölümler | B28: MEDEK Bilgilendirme Toplantısı | C28: Bilgilendirme | D28: Dr. Öğr. Üyesi Abdullah TURAN ve Diğer Bölüm Başkanları | E28: 46140 | F28: 30 | H28: Öğrenciler ile | I28: Bilgilendirme
A29: TOPLAM / ORTALAMA | F29: =SUM(F5:F28) -> 1051 | G29: =AVERAGE(G5:G28) -> 96.545455
A31: B. DERS BAŞARI GÖSTERGELERİ
A32: Bölüm / Program | B32: Ders Kodu | C32: Ders Adı | D32: Öğretim Elemanı | E32: Kayıtlı | F32: Sınava Giren | G32: Geçen | H32: Kalan | I32: Geçme Oranı (%) | J32: Bütünleme (kişi) | K32: Devamsızlık Ort. (%) | L32: Memnuniyet (/5) | M32: Dönem
A33: Büro Yönetimi | B33: BİL 181 | C33: Temel Bilgisayar Bilimleri | D33: Öğr. Gör. Adem İĞDE | E33: 44 | F33: 27 | G33: 26 | H33: 1 | I33: =G33/F33*100 -> 96.296296 | J33: 2 | K33: 38.6 | L33: 4.58 | M33: 2025–26 Güz
A34: Büro Yönetimi | B34: İNG 185 | C34: Yabancı Dil - I | D34: Öğr. Gör. Ayşe Özlem KELEŞ | E34: 3810 | F34: 2728 | G34: 1431 | H34: 1297 | I34: =G34/F34*100 -> 52.456012 | J34: 382 | K34: 0 | L34: 4.33 | M34: 2025–26 Güz
A35: Büro Yönetimi | B35: AİT 191 | C35: Atatürk İlkeleri ve İnkılâp Tarihi I | D35: Öğr. Gör. Dr. Ayşegül CAN | E35: 405 | F35: 258 | G35: 213 | H35: 45 | I35: =G35/F35*100 -> 82.55814 | J35: 81 | K35: 0 | L35: 4.07 | M35: 2025–26 Güz
A36: Büro Yönetimi | B36: TDİ 195 | C36: Türk Dili I | D36: Öğr. Gör. Ayşe UYSAL | E36: 225 | F36: 154 | G36: 75 | H36: 79 | I36: =G36/F36*100 -> 48.701299 | J36: 0 | K36: 0 | L36: 4.35 | M36: 2025–26 Güz
A37: Büro Yönetimi | B37: BUR 101 | C37: Genel İşletme | D37: Öğr. Gör. Ferhat ATEŞ | E37: 47 | F37: 28 | G37: 21 | H37: 7 | I37: =G37/F37*100 -> 75 | J37: 0 | K37: 0 | L37: 4.73 | M37: 2025–26 Güz
A38: Büro Yönetimi | B38: BUR 103 | C38: Ticari Matematik | D38: Öğr. Gör. Adnan YEŞİLYURT | E38: 51 | F38: 30 | G38: 28 | H38: 2 | I38: =G38/F38*100 -> 93.333333 | J38: 12 | K38: 0 | L38: 4.34 | M38: 2025–26 Güz
A39: Büro Yönetimi | B39: BUR 105 | C39: Sekreterlik Bilgisi | D39: Dr. Öğr. Üyesi Abdullah TURAN | E39: 46 | F39: 27 | G39: 27 | H39: 0 | I39: =G39/F39*100 -> 100 | J39: 9 | K39: 0 | L39: 4.73 | M39: 2025–26 Güz
A40: Büro Yönetimi | B40: BUR 113 | C40: İktisada Giriş | D40: Öğr. Gör. Dr. Melahat YEŞİLKAYA | E40: 53 | F40: 33 | G40: 29 | H40: 4 | I40: =G40/F40*100 -> 87.878788 | J40: 15 | K40: 0 | L40: 4.42 | M40: 2025–26 Güz
A41: Büro Yönetimi | B41: BUR 109 | C41: Hukukun Temel Kavramları | D41: Öğr. Gör. Ferhat ATEŞ | E41: 49 | F41: 31 | G41: 31 | H41: 0 | I41: =G41/F41*100 -> 100 | J41: 0 | K41: 0 | L41: 4.66 | M41: 2025–26 Güz
A42: Büro Yönetimi | B42: BUR 111 | C42: Protokol Bilgisi | D42: Öğr. Gör. Ferhat ATEŞ | E42: 46 | F42: 27 | G42: 27 | H42: 0 | I42: =G42/F42*100 -> 100 | J42: 0 | K42: 0 | L42: 4.76 | M42: 2025–26 Güz
A43: Büro Yönetimi | B43: İNG 186 | C43: Yabancı Dil II | D43: Öğr. Gör. Ayşe Özlem KELEŞ | E43: 3765 | F43: 2275 | G43: 827 | H43: 1448 | I43: =G43/F43*100 -> 36.351648 | J43: 717 | K43: 0 | L43: 4.33 | M43: 2025–26 Bahar
A44: Büro Yönetimi | B44: AİT 192 | C44: Atatürk İlkeleri ve İnkılâp Tarihi II | D44: Öğr. Gör. Dr. Ayşegül CAN | E44: 370 | F44: 250 | G44: 250 | H44: 0 | I44: =G44/F44*100 -> 100 | J44: 10 | K44: 0 | L44: 4.21 | M44: 2025–26 Bahar
... A69: Büro Yönetimi | B69: OED BUR | C69: Ortak Eğitim Programı Dersi | D69: Dr. Öğr. Üyesi Abdullah TURAN | E69: 2 | F69: 2 | G69: 2 | H69: 0 | I69: =G69/F69*100 -> 100 | J69: 0 | K69: 0 | L69: 4.5 | M69: 2025–26 Bahar

Sheet 2. Araştırma-Geliştirme
A1: ORTAKÖY MYO – 2. ARAŞTIRMA-GELIŞTIRME FAALİYET TABLOSU | 2025–2026
A2: Akademik Yıl: 2025–2026 | Ortaköy Meslek Yüksekokulu
A3: A. AKADEMİK YAYINLAR
A4: Öğretim Elemanı | B4: Yayın Türü | C4: Makale / Bildiri Adı | D4: Yayın Yeri | E4: Yıl | F4: İndeks | G4: Q Değeri | H4: Atıf Sayısı | I4: Ortak Yazar(lar)
A5: Dr. Öğr. Üyesi Abdullah TURAN | B5: Kitap Bölümü | C5: AK Parti Döneminde Göç ve Milliyetçilik | D5: Göç Yönetimi: Eşikteki İnsanlık, Ulusötesi Krizler ve Çözümler | E5: 2025 | F5: Academia, BookCites, CEEOL, EBSCO, Google Akademik, Google Books | G5: — | H5: — | I5: —
A6: Dr. Öğr. Üyesi Abdullah TURAN | B6: Kitap Bölümü | C6: Dijital Çağda Devletin Duygusal Yönetimi: Yapay Zekâ ile Siyasal Süreçlerin Dönüşümü | D6: Dijital Çağda İş Yerinde Duygular Teknoloji, Emek ve Duygusal Dinamikler | E6: 2026 | F6: Academia, BookCites, CEEOL, EBSCO, Google Akademik, Google Books | G6: — | H6: — | I6: —
A7: Dr. Öğr. Üyesi Abdullah TURAN | B7: Kitap Bölümü | C7: Türk Dünyasında Stratejik Bir Güç Unsuru Olarak Türk İnsansız Hava Araçları | D7: Tarihsel Süreçte Türk Dünyasında Stratejik Ortaklık ve İlişkiler | E7: 2026 | F7: — | G7: — | H7: — | I7: —
A8: Dr. Öğr. Üyesi Abdullah TURAN | B8: Makale | C8: Beyond the Civic/Ethnic Dilemma: Banal Nationalism and Everyday Border Drawing | D8: Histories | E8: 2026 | F8: ESCI | G8: Q2 | H8: — | I8: ÇİÇEK, Ali, TAYLAN, Ömer, & ÇİÇEK, Aslıhan
A9: Dr. Öğr. Üyesi Abdullah TURAN | B9: Makale | C9: AK Parti’nin Dış Politika Sorunlarını Aşma Stratejileri (Milliyetçilik ve Sert Güç): Filistin Politikasındaki İstisnalar | D9: Ömer Halisdemir Üniversitesi İktisadi ve İdari Bilimler Fakültesi Dergisi | E9: 2025 | F9: TR DİZİN | G9: — | H9: — | I9: —
A10: Dr. Öğr. Üyesi Abdullah TURAN | B10: Makale | C10: 1950–2002 Döneminde Filistin Sorunu ve Türk Dış Politikası: Çıkar, Kimlik ve Egemenlik Arasında Bir Denge Arayışı | D10: Eskişehir Osmangazi Üniversitesi Sosyal Bilimler Dergisi | E10: 2025 | F10: TR DİZİN | G10: — | H10: — | I10: —
A11: Dr. Öğr. Üyesi Abdullah TURAN | B11: Makale | C11: Rusya-Ukrayna Savaşı Örneğinde Trump’ın Otoriter Liderlik Analizi | D11: Kastamonu Üniversitesi İktisadi ve İdari Bilimler Fakültesi Dergisi | E11: 2026 | F11: TR DİZİN | G11: — | H11: — | I11: ÖZDEMİR, Halil Özcan
A12: Dr. Öğr. Üyesi Abdullah TURAN | B12: Makale | C12: Donald Trump’ın Rusya-Ukrayna Savaşı’na Yönelik Pragmatist ve Teritoryal Milliyetçi Dış Politikası | D12: Uluslararası İlişkiler ve Politika Dergisi | E12: 2026 | F12: TR DİZİN | G12: — | H12: — | I12: —
A13: Dr. Öğr. Üyesi Abdullah TURAN | B13: Bildiri | C13: Ahilik Felsefesinin Günümüzde Devlet, Millet ve Türk Düşüncesine Işık Tutan Yönleri | D13: III. Türk İslam Siyasi Düşüncesi Sempozyumu | E13: 2025 | F13: — | G13: — | H13: — | I13: —
A15: B. PROJELER
A16: Proje Yürütücüsü | B16: Proje Adı | C16: Proje No | D16: Destekleyen Kuruluş | E16: Başlangıç | F16: Bitiş | G16: Bütçe (₺) | H16: Durum | I16: Araştırmacılar | J16: Alan
A17: Dr. Öğr. Üyesi Abdullah TURAN | B17: Dijital Dönüşümün Siyasal Katılım Üzerine Etkisi: Türkiye'deki Vakıf ve Devlet Üniversitelerindeki Öğrencilerin Tutumlarının/Durumlarının Karşılaştırılması | C17: BAP-2025-018 | D17: Aksaray Ü. BAP | E17: 45775 | F17: 46149 | G17: 1592 | H17: Bitti | I17: Öğr. Gör. Dr. Onur DOĞAN, Öğr. Gör. Dr. Yusuf KARAŞİN | J17: Siyaset Bilimi / Eğitim Teknolojisi
A18: C. YILLIK PERFORMANS KARŞILAŞTIRMASI
A19: Gösterge | B19: 2023–24 | C19: 2024–25 | D19: 2025–26 Hedef | E19: 2025–26 Gerçekleşen | F19: Değişim | G19: Not
A20: Toplam Yayın Sayısı | B20: 9 | C20: 6 | D20: 7 | E20: 9 | F20: =E20-D20 -> 2 | G20: Hedef aşıldı
A21: TÜBİTAK Projesi (Kabul) | B21: 0 | C21: 0 | D21: 0 | E21: 0 | F21: 0
A22: BAP Projesi (Aktif) | B22: 0 | C22: 0 | D22: 1 | E22: 1 | F22: =E22-D22 -> 0 | G22: Hedef tutturuldu
A23: Toplam Proje Bütçesi (₺) | B23: 0 | C23: 0 | D23: 2008 | E23: 1592 | F23: =E23-D23 -> -416 | G23: Malzeme için daha iyi fiyat alındığı için bütçe arttı
A24: Atıf Sayısı (toplam) | B24: 8 | C24: 12 | D24: 15 | E24: 23 | F24: =E24-D24 -> 8 | G24: Yeni yayınlar henüz atıf almadı

Sheet 3. Toplumsal Katkı
A1: ORTAKÖY MYO – 3. TOPLUMSAL KATKI FAALİYET TABLOSU | 2025–2026
A2: Akademik Yıl: 2025–2026 | Ortaköy Meslek Yüksekokulu
A3: A. SOSYAL SORUMLULUK VE TOPLUM HİZMETİ ETKİNLİKLERİ
A4: Bölüm / Program | B4: Etkinlik Adı | C4: Etkinlik Türü | D4: Sorumlu Öğretim Elemanı | E4: Tarih | F4: Yer | G4: Katılımcı Sayısı | H4: Memnuniyet (%) | I4: Paydaş Kuruluş | J4: Çıktı / Etki
A5: Büro Yönetimi | B5: Şehit Ailesi Ziyareti | C5: Sosyal Sorumluluk | D5: Öğr. Gör. Ferhat ATEŞ | E5: 46312 | F5: Şehit Ailesi Evi | G5: 16 | H5: — | I5: Öğrenciler ile | J5: Vatandaş Farkındalığı veToplumsal Sorumluluk
A6: Büro Yönetimi | B6: Rehabilitasyon Merkezi Ziyareti | C6: Sosyal Sorumluluk | D6: Öğr. Gör. Ferhat ATEŞ | E6: 45952 | F6: Rehabilitasyon Merkezi | G6: 19 | H6: — | I6: Öğrenciler ile | J6: Vatandaş Farkındalığı veToplumsal Sorumluluk
A7: Büro Yönetimi | B7: İhtiyaç Sahibine Yardım Etkinliği | C7: Sosyal Sorumluluk | D7: Öğr. Gör. Ferhat ATEŞ | E7: 45968 | F7: İhtiyaç Sahibi Kişinin Evi | G7: 29 | H7: — | I7: Öğrenciler ile | J7: Vatandaş Farkındalığı veToplumsal Sorumluluk
A8: Büro Yönetimi | B8: Kadına Şiddet Sürecinde Çocuk Yetiştirme ve Aile Etkisi | C8: Sosyal Sorumluluk | D8: Dr. Öğr. Üyesi Abdullah TURAN | E8: 46021 | F8: Ortaköy MYO Konferans Salonu | G8: 112 | H8: — | I8: Ahi Evran Üniversitesi (Dr. Öğr. Üyesi Suzan YILDIRIM) | J8: Aile ve Çocuk Yetiştirme Sürecinin Kadına Şiddette Etkisinin Çözümlenmesi
A12: B. SANAYİ VE KURUM İŞBİRLİKLERİ
A13: Paydaş Kurum | B13: İşbirliği Türü | C13: Kapsam | D13: Başlangıç | E13: Bitiş / Yenileme | F13: Sorumlu Öğretim Elemanı | G13: Staj Öğrenci Sayısı | H13: İstihdam Edilen Mezun | I13: Durum | J13: Protokol No
A14: Türkiye'deki Çeşitli Kamu ve Özel Sektör Kurumları | B14: Staj | C14: Büro Hizmetleri | D14: 2025 | E14: 2026 (yenileme) | F14: Dr. Öğr. Üyesi Abdullah TURAN | G14: 19 | H14: — | I14: Yaz Tatilinde Aktif | J14: Öğrenciler Evraklarını Onaylatarak Protokolsüz Staj Yapmaktadır.
A15: Türkiye'deki Çeşitli Özel Sektör Kurumları | B15: Ortak Eğitim | C15: Büro Hizmetleri | D15: 2025 Bahar Dönemi | E15: 2026 Bahr Dönemi (yenileme) | F15: Dr. Öğr. Üyesi Abdullah TURAN | G15: 2 | H15: 1 | I15: Bahar Döneminde Aktif | J15: Protokoller Ortak Eğitim Koordinatörlüğü Tarafından Muhafaza Edilmektedir
A16: Ortaköy Belediyesi | B16: Yunus Emre Etkinlikleri | C16: Konferans, Söyleşi, Şiir Dinletisi ve Etkinlik Organizasyonu | D16: 2025 Güz Dönemi | E16: 2026 Bahar Dönemi | F16: Dr. Öğr. Üyesi Abdullah TURAN | G16: — | H16: — | I16: Etkinlik Süreci Devam Ediyor | J16: Protokol Bulunmamaktadır
A17: Ahi Evran Üniversitesi Çiçekdağ MYO | B17: Akran Değerlendirmesi | C17: YÖKAK/MEDEK Akreditasyon Süreçleri | D17: 46140 | E17: 46140 | F17: Dr. Öğr. Üyesi Abdullah TURAN, Öğr. Gör. Adnan YEŞİLYURT, Öğr. Gör. Ferhat ATEŞ | G17: — | H17: — | I17: Tamamlandı | J17: Protokol Bulunmamaktadır
A18: Yunus Emre OSB Müdürlüğü, Ortaköy Kaymakamlığı, Ortaköy Belediyesi, Esnaf Odaları Başkanlığı, OR-TAT, gibi çeşitli kurum ve firmaları | B18: Dış Paydaş Görüşmeleri | C18: YÖKAK/MEDEK Akreditasyon Süreçleri kapsamında Dış Paydaş Ders Öneri Formu Doldurtulması | D18: 46109 | E18: 46142 | F18: Dr. Öğr. Üyesi Abdullah TURAN, Öğr. Gör. Adnan YEŞİLYURT, Öğr. Gör. Ferhat ATEŞ | G18: — | H18: — | I18: Tamamlandı | J18: Form Doldurtulmuştur

Sheet 4. Yönetişim
A1: ORTAKÖY MYO – 4. YÖNETIŞIM FAALİYET TABLOSU | 2025–2026
A2: Akademik Yıl: 2025–2026 | Ortaköy Meslek Yüksekokulu
A3: A. KALİTE GÜVENCE VE AKREDİTASYON FAALİYETLERİ
A4: Faaliyet Adı | B4: Faaliyet Türü | C4: Sorumlu | D4: Başlangıç | E4: Bitiş | F4: Tamamlanma (%) | G4: Çıktı / Belge | H4: YÖKAK / MEDEK Kriteri | I4: Açıklama
A5: Dış Paydaş Anket Hazırlık Toplantısı (23 Öğrenci ile) | B5: Ölçme–Değerlendirme | C5: Bölüm ve Öğrenciler Birlikte Yapılan Toplantı ile | D5: 46046 | E5: 46105 | F5: 100 | G5: Bölüm Dış Paydaş Anketi Hazırlandı | H5: A.2.1, A.3.1, B.1.1 | I5: Topantı Yapılarak Öğrencilerin Katılımı Sağlandı
A6: Öğrenci Memnuniyet Anketleri – Analiz (45 Öğrenci ile) | B6: Ölçme–Değerlendirme | C6: Dr. Öğr. Üyesi Abdullah TURAN | D6: 45951 | E6: 46043 | F6: 100 | G6: Bölüm Öğrenci Memnuniyet Anketi Uygulandı | H6: B.2.3 | I6: Uygulandı ve Web'de yayımlandı
A7: Mezun Öğrenci Memnuniyet Anketleri – Analiz (24 öğrenci ile) | B7: Ölçme–Değerlendirme | C7: Dr. Öğr. Üyesi Abdullah TURAN | D7: 45988 | E7: 46049 | F7: 100 | G7: Bölüm Mezun Öğrenci Memnuniyet Anketi Uygulandı | H7: B.2.3 | I7: Uygulandı ve Web'de yayımlandı
A8: Öğrenci Memnuniyet Anketleri – Analiz | B8: Ölçme–Değerlendirme | C8: Rektörlük Kalite Birimi | D8: Güz Dönemi | E8: 46087 | F8: 100 | G8: Rektörlük Öğrencilere Memnuniyet Anketi Uyguladı ve Bölümümüz Raporunu Hazırladı | H8: B.2.3 | I8: Raporu Hazırlandı ve Web'de yayımlandı
A9: Dış Paydaş Anketi-Analiz (33 firma ile) | B9: Ölçme–Değerlendirme | C9: Dr. Öğr. Üyesi Abdullah TURAN | D9: 46049 | E9: 46108 | F9: 100 | G9: Bölüm Dış Paydaş Anketi Uygulandı | H9: B.2.3 | I9: Uygulandı ve Web'de yayımlandı
A10: Öğrenci Memnuniyet Anketleri – Analiz | B10: Ölçme–Değerlendirme | C10: Rektörlük Kalite Birimi | D10: Bahar Dönemi | E10: 46238 | F10: 100 | G10: Rektörlük Öğrencilere Memnuniyet Anketi Uyguladı ve Bölümümüz Raporunu Hazırladı | H10: B.2.3 | I10: Raporu Hazırlandı ve Web'de yayımlandı
A11: YÖKAK Kurumsal Akreditasyon Öz Değerlendirme Raporu | B11: Akreditasyon | C11: Bölüm Koordinatörlüğü | D11: Eyl 2025 | E11: May 2026 | F11: 100 | G11: ÖDR Raporu (15 sayfa) | H11: A.2.1, A.3.1, B.1.1 | I11: Tamamlandı, web'de yayımlandı
A13: B. PERSONEL GELİŞİM FAALİYETLERİ
A14: Eğitim / Faaliyet Adı | B14: Türü | C14: Katılan Personel | D14: Tarih | E14: Süre (Saat) | F14: Düzenleyen | G14: Sertifika | H14: Memnuniyet (%) | I14: Kapsam
A15: III.Türk İslam Siyasi Düşüncesi Kongresi | B15: Sempozyum | C15: Dr. Öğr. Üyesi Abdullah TURAN | D15: 45939 | E15: 2 gün | F15: Aksaray Üniversitesi İİBF | G15: Evet | I15: Akademik Gelişim
A16: TİKA Araştırma Raporu Hazırlığı | B16: Rapor | C16: Dr. Öğr. Üyesi Abdullah TURAN | D16: 45989 | E16: 10 Gün | F16: Moldova TİKA | G16: Hayır | I16: Kurumlar Arası İşbirliğinin Geliştirilmesi
A20: C. KURUMSAL PERFORMANS GÖSTERGELERİ (Trend)
A21: Performans Göstergesi | B21: 2023–24 | C21: 2024–25 | D21: 2025–26 Hedef | E21: 2025–26 Gerçekleşen | F21: Sapma | G21: Açıklama
A22: Öğrenci Memnuniyet Ortalaması (%) | B22: — | C22: — | D22: 90 | E22: 95 | F22: =E22-D22 -> 5 | G22: Hedef aşıldı
A23: İşveren Memnuniyet Oranı (%) | B23: — | C23: — | D23: — | E23: — | F23: — | G23: —
A24: Mezun İstihdam Oranı (%) | B24: — | C24: — | D24: — | E24: — | F24: — | G24: —
A25: Öğretim Elemanı Başına Proje Sayısı | B25: — | C25: — | D25: 0.33 | E25: 0.33 | F25: — | G25: 1 Proje (Bölüm Dışı iki akademisyenin katkısı ile gerçekleştirilmiştir)
A26: Yıllık Toplam Etkinlik Sayısı | B26: 4 | C26: 20 | D26: 21 | E26: 28 | F26: =E26-D26 -> 7 | G26: Hedef aşıldı
A27: Aktif Sanayi İşbirliği Protokolü | B27: — | C27: — | D27: — | E27: — | F27: — | G27: Ortak Eğitim Protokolleri Ortak Eğitim Koordinatörlüğü Tarafından Yürütülmektedir
A28: Personel Kişi Başı Eğitim Saati | B28: — | C28: — | D28: 30 | E28: 33 | F28: =E28-D28 -> 3 | G28: Hedef aşıldı

Sheet 5.DİĞER
A1: Tarih | B1: Etkinlik/Faaliyet/Toplantı Adı | C1: Katılan Öğrenci Sayısı | D1: Sorumlu Öğretim Elemanı | E1: Kapsamı
A2: 45938 | B2: Ders Muafiyeti | C2: 3 | D2: Dr. Öğr. Üyesi Abdullah TURAN, Öğr. Gör.Adnan YEŞİLYURT, Öğr. Gör. Ferhat ATEŞ | E2: Öğrenciler Daha Önceki Eğitimleri Kapsamında Aldıkları Derslerden Bazılarından Muaf Oldular
A3: 45985 | B3: Bölüm Öz Değerlendirme Raporu Hazrılık Toplantısı | C3: 0 | D3: Dr. Öğr. Üyesi Abdullah TURAN, Öğr. Gör.Adnan YEŞİLYURT, Öğr. Gör. Ferhat ATEŞ | E3: Bölüm Öz Değerlendirme Raporu Hazırlık Detayları Görüşüldü
A4: 45973 | B4: Dış Paydaş Bankacılık ve Sigortacılık Programı Öğrencileri İle Mantı Yapma Etkinliği | C4: 12 | D4: Dr. Öğr. Üyesi Abdullah TURAN, Öğr. Gör. Ferhat ATEŞ | E4: Program hocalarımız Diğer Program Öğrencileri ile Etkinlik Yaptı
A5: 46042 | B5: Bölüm Akreditasyon Kimisyonu Oluşturulması | C5: 1 | D5: Dr. Öğr. Üyesi Abdullah TURAN, Öğr. Gör.Adnan YEŞİLYURT, Öğr. Gör. Ferhat ATEŞ, Öğrenci Gülbahar ÇELİK | E5: YÖKAK ve MEDEK Kapsamında akredite olma süreci başlatıldı
A6: 46070 | B6: Öğrencinin Üstten Ders Alma Başvuru Dilekçesi | C6: 1 | D6: Dr. Öğr. Üyesi Abdullah TURAN | E6: Öğrencinin Üstten Ders Alma Başvurusuna Dair Dilekçesinin Karşılığı Olarak Beklentisi Karşılandı
A7: 46072 | B7: MEDEK Sürecini Başlatma Toplantısı | C7: 0 | D7: Dr. Öğr. Üyesi Abdullah TURAN, Öğr. Gör.Adnan YEŞİLYURT, Öğr. Gör. Ferhat ATEŞ | E7: Bölüm Olarak MEDEK Sürecine Başvuru Kararı Alındı
A8: 46079 | B8: Akademik Teşvik Ödülü Alındı | C8: 0 | D8: Dr. Öğr. Üyesi Abdullah TURAN | E8: Bölüm hocamız Dr. Öğr. Üyesi Abdullah TURAN Okul Müdürümüz Dr. Öğr. Üyesi Ferdi YILDIRIM'dan Akademik Teşvik Ödülü Aldı
A9: 46086 | B9: Bologna Eksikleri Bildirme Yazısı | C9: 0 | D9: Dr. Öğr. Üyesi Abdullah TURAN | E9: Bölüm Dersleri Bolognaları Kontrolü Yapılarak Eksik Olan dersler Yazı ile Müdürlüğe Bildirildi
A10: 46108 | B10: Dış Paydaş Toplantısı | C10: 0 | D10: Dr. Öğr. Üyesi Abdullah TURAN, Öğr. Gör.Adnan YEŞİLYURT, Öğr. Gör. Ferhat ATEŞ | E10: Dış Paydaşlardan Bölümle İlgili Ders Önerilerini Almak İçin Görüşme Kararı Alındı ve Uygulandı
A11: 46125 | B11: Dış Paydaş Görüşleri ve MEDEK Toplantısı | C11: 0 | D11: Dr. Öğr. Üyesi Abdullah TURAN, Öğr. Gör.Adnan YEŞİLYURT, Öğr. Gör. Ferhat ATEŞ | E11: Toplantıda Dış Paydaş Görüşleri Rapor Haline Getirildi ve MEDEK Toplantısı Yapıldı
A12: 46125 | B12: MEDEK İyileştirme Özet Raporu | C12: 0 | D12: Dr. Öğr. Üyesi Abdullah TURAN, Öğr. Gör.Adnan YEŞİLYURT, Öğr. Gör. Ferhat ATEŞ | E12: MEDEK İyileştirme Adımları Rapor Haline Getirildi
A13: 46140 | B13: Müfredat Güncelleme Toplantısı | C13: 0 | D13: Dr. Öğr. Üyesi Abdullah TURAN, Öğr. Gör.Adnan YEŞİLYURT, Öğr. Gör. Ferhat ATEŞ | E13: Dış Paydaş Önerileri, Akran Değerlendirmeleri ve Diğer Üniversitelerdeki Aynı Bölümlerdeki Dersler Dikkate Alınarak Müfredat Güncellemesi Yapılması Kararı Verildi
... A16: 46177 | B16: Mezun Öğrencimiz Ali ALPTEKİN'in Talebi | C16: 1 | D16: Dr. Öğr. Üyesi Abdullah TURAN | E16: Mezun Öğrencimizin Okulda Dereceye Girmesi Kapsamında Resminin Siteye Eklenemsi Talebi İle İlgili Yönetime Yazı Yazıldı ve Sonuç Alındı
